BEGIN:VCALENDAR
VERSION:2.0
PRODID:-//Butlers Marston Parish Council//Meeting Calendar//EN
CALSCALE:GREGORIAN
METHOD:PUBLISH
BEGIN:VEVENT
UID:70765-20260930@butlersmarstonparish.gov.uk
DTSTAMP:20260423T084221Z
DTSTART;VALUE=DATE:20260930
DTEND;VALUE=DATE:20261001
SUMMARY:Full Council Meeting &#8211\\; 30 September 2026
DESCRIPTION:Full Council Meeting\nView details: https://butlersmarstonparish.gov.uk/meetings/full-council-meeting-30-september-2026/
URL:https://butlersmarstonparish.gov.uk/meetings/full-council-meeting-30-september-2026/
END:VEVENT
END:VCALENDAR
