BEGIN:VCALENDAR
VERSION:2.0
PRODID:-//Butlers Marston Parish Council//Meeting Calendar//EN
CALSCALE:GREGORIAN
METHOD:PUBLISH
BEGIN:VEVENT
UID:70764-20260806@butlersmarstonparish.gov.uk
DTSTAMP:20260421T084150Z
DTSTART;VALUE=DATE:20260806
DTEND;VALUE=DATE:20260807
SUMMARY:Full Council Meeting &#8211\\; 06 August 2026
DESCRIPTION:Full Council Meeting\nView details: https://butlersmarstonparish.gov.uk/meetings/full-council-meeting-06-august-2026/
URL:https://butlersmarstonparish.gov.uk/meetings/full-council-meeting-06-august-2026/
END:VEVENT
END:VCALENDAR
