BEGIN:VCALENDAR
VERSION:2.0
PRODID:-//Butlers Marston Parish Council//Meeting Calendar//EN
CALSCALE:GREGORIAN
METHOD:PUBLISH
BEGIN:VEVENT
UID:70763-20260520@butlersmarstonparish.gov.uk
DTSTAMP:20260421T084826Z
DTSTART;VALUE=DATE:20260520
DTEND;VALUE=DATE:20260521
SUMMARY:Full Council Meeting &#8211\\; 20 May 2026
DESCRIPTION:Full Council Meeting\nView details: https://butlersmarstonparish.gov.uk/meetings/full-council-meeting-20-may-2026/
URL:https://butlersmarstonparish.gov.uk/meetings/full-council-meeting-20-may-2026/
END:VEVENT
END:VCALENDAR
