BEGIN:VCALENDAR
VERSION:2.0
PRODID:-//Butlers Marston Parish Council//Meeting Calendar//EN
CALSCALE:GREGORIAN
METHOD:PUBLISH
BEGIN:VEVENT
UID:70762-20260326@butlersmarstonparish.gov.uk
DTSTAMP:20260423T082653Z
DTSTART;VALUE=DATE:20260326
DTEND;VALUE=DATE:20260327
SUMMARY:Full Council Meeting &#8211\\; 26 March 2026
DESCRIPTION:Full Council Meeting\nView details: https://butlersmarstonparish.gov.uk/meetings/full-council-meeting-26-march-2026/
URL:https://butlersmarstonparish.gov.uk/meetings/full-council-meeting-26-march-2026/
END:VEVENT
END:VCALENDAR
