BEGIN:VCALENDAR
VERSION:2.0
PRODID:-//Butlers Marston Parish Council//Meeting Calendar//EN
CALSCALE:GREGORIAN
METHOD:PUBLISH
BEGIN:VEVENT
UID:70676-20250806@butlersmarstonparish.gov.uk
DTSTAMP:20260421T082504Z
DTSTART;VALUE=DATE:20250806
DTEND;VALUE=DATE:20250807
SUMMARY:Full Council Meeting &#8211\\; 06 August 2025
DESCRIPTION:Full Council Meeting\nView details: https://butlersmarstonparish.gov.uk/meetings/full-council-meeting-06-august-2025/
URL:https://butlersmarstonparish.gov.uk/meetings/full-council-meeting-06-august-2025/
END:VEVENT
END:VCALENDAR
