BEGIN:VCALENDAR
VERSION:2.0
PRODID:-//Butlers Marston Parish Council//Meeting Calendar//EN
CALSCALE:GREGORIAN
METHOD:PUBLISH
BEGIN:VEVENT
UID:70672-20250529@butlersmarstonparish.gov.uk
DTSTAMP:20260423T084104Z
DTSTART;VALUE=DATE:20250529
DTEND;VALUE=DATE:20250530
SUMMARY:Full Council Meeting &#8211\\; 29 May 2025
DESCRIPTION:Full Council Meeting\nView details: https://butlersmarstonparish.gov.uk/meetings/full-council-meeting-29-may-2025/
URL:https://butlersmarstonparish.gov.uk/meetings/full-council-meeting-29-may-2025/
END:VEVENT
END:VCALENDAR
