BEGIN:VCALENDAR
VERSION:2.0
PRODID:-//Butlers Marston Parish Council//Meeting Calendar//EN
CALSCALE:GREGORIAN
METHOD:PUBLISH
BEGIN:VEVENT
UID:70475-20240425@butlersmarstonparish.gov.uk
DTSTAMP:20260423T101908Z
DTSTART;VALUE=DATE:20240425
DTEND;VALUE=DATE:20240426
SUMMARY:Annual Parish Meeting &#8211\\; 25 April 2024
DESCRIPTION:Annual Parish Meeting\nView details: https://butlersmarstonparish.gov.uk/meetings/annual-parish-meeting-25-april-2024/
URL:https://butlersmarstonparish.gov.uk/meetings/annual-parish-meeting-25-april-2024/
END:VEVENT
END:VCALENDAR
