BEGIN:VCALENDAR
VERSION:2.0
PRODID:-//Butlers Marston Parish Council//Meeting Calendar//EN
CALSCALE:GREGORIAN
METHOD:PUBLISH
BEGIN:VEVENT
UID:70469-20240124@butlersmarstonparish.gov.uk
DTSTAMP:20260423T101032Z
DTSTART;VALUE=DATE:20240124
DTEND;VALUE=DATE:20240125
SUMMARY:Full Council Meeting &#8211\\; 24 January 2024
DESCRIPTION:Full Council Meeting\nView details: https://butlersmarstonparish.gov.uk/meetings/full-council-meeting-24-january-2024/
URL:https://butlersmarstonparish.gov.uk/meetings/full-council-meeting-24-january-2024/
END:VEVENT
END:VCALENDAR
