BEGIN:VCALENDAR
VERSION:2.0
PRODID:-//Butlers Marston Parish Council//Meeting Calendar//EN
CALSCALE:GREGORIAN
METHOD:PUBLISH
BEGIN:VEVENT
UID:70465-20241120@butlersmarstonparish.gov.uk
DTSTAMP:20260423T101428Z
DTSTART;VALUE=DATE:20241120
DTEND;VALUE=DATE:20241121
SUMMARY:Full Council Meeting &#8211\\; 20 November 2024
DESCRIPTION:Full Council Meeting\nView details: https://butlersmarstonparish.gov.uk/meetings/full-council-meeting-20-november-2024/
URL:https://butlersmarstonparish.gov.uk/meetings/full-council-meeting-20-november-2024/
END:VEVENT
END:VCALENDAR
