BEGIN:VCALENDAR
VERSION:2.0
PRODID:-//Butlers Marston Parish Council//Meeting Calendar//EN
CALSCALE:GREGORIAN
METHOD:PUBLISH
BEGIN:VEVENT
UID:70459-20240807@butlersmarstonparish.gov.uk
DTSTAMP:20260423T102728Z
DTSTART;VALUE=DATE:20240807
DTEND;VALUE=DATE:20240808
SUMMARY:Full Council Meeting &#8211\\; 7 August 2024
DESCRIPTION:Full Council Meeting\nView details: https://butlersmarstonparish.gov.uk/meetings/full-council-meeting-7-august-2024/
URL:https://butlersmarstonparish.gov.uk/meetings/full-council-meeting-7-august-2024/
END:VEVENT
END:VCALENDAR
