BEGIN:VCALENDAR
VERSION:2.0
PRODID:-//Butlers Marston Parish Council//Meeting Calendar//EN
CALSCALE:GREGORIAN
METHOD:PUBLISH
BEGIN:VEVENT
UID:70453-20241104@butlersmarstonparish.gov.uk
DTSTAMP:20260423T102641Z
DTSTART;VALUE=DATE:20241104
DTEND;VALUE=DATE:20241105
SUMMARY:Full Council Meeting &#8211\\; 4 November 2024
DESCRIPTION:Full Council Meeting\nView details: https://butlersmarstonparish.gov.uk/meetings/full-council-meeting-4-november-2024/
URL:https://butlersmarstonparish.gov.uk/meetings/full-council-meeting-4-november-2024/
END:VEVENT
END:VCALENDAR
