BEGIN:VCALENDAR
VERSION:2.0
PRODID:-//Butlers Marston Parish Council//Meeting Calendar//EN
CALSCALE:GREGORIAN
METHOD:PUBLISH
BEGIN:VEVENT
UID:70450-20250129@butlersmarstonparish.gov.uk
DTSTAMP:20260423T084149Z
DTSTART;VALUE=DATE:20250129
DTEND;VALUE=DATE:20250130
SUMMARY:Full Council Meeting &#8211\\; 29 January 2025
DESCRIPTION:Full Council Meeting\nView details: https://butlersmarstonparish.gov.uk/meetings/full-council-meeting-29-january-2025/
URL:https://butlersmarstonparish.gov.uk/meetings/full-council-meeting-29-january-2025/
END:VEVENT
END:VCALENDAR
