BEGIN:VCALENDAR
VERSION:2.0
PRODID:-//Butlers Marston Parish Council//Meeting Calendar//EN
CALSCALE:GREGORIAN
METHOD:PUBLISH
BEGIN:VEVENT
UID:70446-20250327@butlersmarstonparish.gov.uk
DTSTAMP:20260423T083343Z
DTSTART;VALUE=DATE:20250327
DTEND;VALUE=DATE:20250328
SUMMARY:Full Council Meeting &#8211\\; 27 March 2025
DESCRIPTION:Full Council Meeting\nView details: https://butlersmarstonparish.gov.uk/meetings/full-council-meeting-27-march-2025/
URL:https://butlersmarstonparish.gov.uk/meetings/full-council-meeting-27-march-2025/
END:VEVENT
END:VCALENDAR
